BEGIN:VCALENDAR
VERSION:2.0
PRODID:-//ChamberMaster//Event Calendar 2.0//EN
METHOD:PUBLISH
X-PUBLISHED-TTL:P3D
REFRESH-INTERVAL:P3D
CALSCALE:GREGORIAN
BEGIN:VEVENT
DTSTART:20260415T200000Z
DTEND:20260415T230000Z
X-MICROSOFT-CDO-ALLDAYEVENT:FALSE
SUMMARY:League of Builders Kickoff Event
DESCRIPTION:Join us for our kickoff party on April 15th as we launch the season together!\n\nPella Windows and Doors of NC\n\n3252 South Miami Boulevard\n\n                 Suite 107\n\n                  Durham\, NC 27703\n\n \n\nAttendance is free\, but registration is required.\n\nLight snacks and beverages will be served.\n\nRaffles and door prizes to be given away.\n\n \n\n                                            Closest to the pin contest with a simulator provided by:\n\n                                                            Sam Duehring with Brookfields Indoor Golf. \n\n                                                            \n\n                                                           RSVP is requested by Monday\, April 13th.
X-ALT-DESC;FMTTYPE=text/html:<p style="color: rgb(36\, 36\, 36)\; font-family: &quot\;Segoe UI&quot\;\, &quot\;Segoe UI Web (West European)&quot\;\, -apple-system\, &quot\;system-ui&quot\;\, Roboto\, &quot\;Helvetica Neue&quot\;\, sans-serif\; font-size: 15px\; text-align: center\; direction: ltr\; margin: 0px 0px 0px 36pt\;"><span style="font-size:14px\;"><span data-olk-copy-source="MessageBody" style="border: 0px\; font-style: inherit\; font-variant: inherit\; font-weight: inherit\; font-stretch: inherit\; line-height: inherit\; font-family: Aptos\, Aptos_EmbeddedFont\, Aptos_MSFontService\, Calibri\, Helvetica\, sans-serif\, serif\, EmojiFont\; font-optical-sizing: inherit\; font-size-adjust: inherit\; font-kerning: inherit\; font-feature-settings: inherit\; font-variation-settings: inherit\; font-language-override: inherit\; margin: 0px\; padding: 0px\; vertical-align: baseline\; color: black\;">Join us for our kickoff party on April 15th as we launch the season together!</span></span></p>\n\n<div style="border: 0px\; font-variant-numeric: inherit\; font-variant-east-asian: inherit\; font-variant-alternates: inherit\; font-variant-position: inherit\; font-variant-emoji: inherit\; font-stretch: inherit\; font-size: 12pt\; line-height: inherit\; font-family: Aptos\, Aptos_EmbeddedFont\, Aptos_MSFontService\, Calibri\, Helvetica\, sans-serif\, serif\, EmojiFont\; font-optical-sizing: inherit\; font-size-adjust: inherit\; font-kerning: inherit\; font-feature-settings: inherit\; font-variation-settings: inherit\; font-language-override: inherit\; margin: 0px 0px 0px 36pt\; padding: 0px\; vertical-align: baseline\; color: rgb(200\, 38\, 19)\; text-align: center\; direction: ltr\;"><span style="font-size:14px\;"><a data-auth="NotApplicable" data-linkindex="1" href="https://www.pella.com/locations/nc/durham/?utm_source=google&amp\;utm_medium=organic&amp\;utm_campaign=gbp" rel="noopener noreferrer" style="border: 0px\; font: inherit\; margin: 0px\; padding: 0px\; vertical-align: baseline\;" target="_blank" title="https://www.pella.com/locations/nc/durham/?utm_source=google&amp\;utm_medium=organic&amp\;utm_campaign=gbp">Pella Windows and Doors of NC</a></span></div>\n\n<div style="border: 0px\; font-variant-numeric: inherit\; font-variant-east-asian: inherit\; font-variant-alternates: inherit\; font-variant-position: inherit\; font-variant-emoji: inherit\; font-stretch: inherit\; font-size: 12pt\; line-height: inherit\; font-family: Aptos\, Aptos_EmbeddedFont\, Aptos_MSFontService\, Calibri\, Helvetica\, sans-serif\, serif\, EmojiFont\; font-optical-sizing: inherit\; font-size-adjust: inherit\; font-kerning: inherit\; font-feature-settings: inherit\; font-variation-settings: inherit\; font-language-override: inherit\; margin: 0px 0px 0px 36pt\; padding: 0px\; vertical-align: baseline\; color: rgb(200\, 38\, 19)\; text-align: center\; direction: ltr\;"><span style="font-size:14px\;"><span style="border: 0px\; font-style: inherit\; font-variant: inherit\; font-weight: inherit\; font-stretch: inherit\; line-height: inherit\; font-family: inherit\; font-optical-sizing: inherit\; font-size-adjust: inherit\; font-kerning: inherit\; font-feature-settings: inherit\; font-variation-settings: inherit\; font-language-override: inherit\; margin: 0px\; padding: 0px\; vertical-align: baseline\; color: rgb(12\, 100\, 192)\;">3252 South Miami Boulevard</span></span></div>\n\n<div style="border: 0px\; font-variant-numeric: inherit\; font-variant-east-asian: inherit\; font-variant-alternates: inherit\; font-variant-position: inherit\; font-variant-emoji: inherit\; font-stretch: inherit\; font-size: 12pt\; line-height: inherit\; font-family: Aptos\, Aptos_EmbeddedFont\, Aptos_MSFontService\, Calibri\, Helvetica\, sans-serif\, serif\, EmojiFont\; font-optical-sizing: inherit\; font-size-adjust: inherit\; font-kerning: inherit\; font-feature-settings: inherit\; font-variation-settings: inherit\; font-language-override: inherit\; margin: 0px\; padding: 0px\; vertical-align: baseline\; color: rgb(200\, 38\, 19)\; text-align: center\;"><span style="font-size:14px\;"><span style="border: 0px\; font-style: inherit\; font-variant: inherit\; font-weight: inherit\; font-stretch: inherit\; line-height: inherit\; font-family: inherit\; font-optical-sizing: inherit\; font-size-adjust: inherit\; font-kerning: inherit\; font-feature-settings: inherit\; font-variation-settings: inherit\; font-language-override: inherit\; margin: 0px\; padding: 0px\; vertical-align: baseline\; color: rgb(12\, 100\, 192)\;">&nbsp\; &nbsp\; &nbsp\; &nbsp\; &nbsp\; &nbsp\; &nbsp\; &nbsp\; &nbsp\;Suite 107</span></span></div>\n\n<div style="border: 0px\; font-variant-numeric: inherit\; font-variant-east-asian: inherit\; font-variant-alternates: inherit\; font-variant-position: inherit\; font-variant-emoji: inherit\; font-stretch: inherit\; font-size: 12pt\; line-height: inherit\; font-family: Aptos\, Aptos_EmbeddedFont\, Aptos_MSFontService\, Calibri\, Helvetica\, sans-serif\, serif\, EmojiFont\; font-optical-sizing: inherit\; font-size-adjust: inherit\; font-kerning: inherit\; font-feature-settings: inherit\; font-variation-settings: inherit\; font-language-override: inherit\; margin: 0px\; padding: 0px\; vertical-align: baseline\; color: rgb(200\, 38\, 19)\; text-align: center\;"><span style="font-size:14px\;"><span style="border: 0px\; font-style: inherit\; font-variant: inherit\; font-weight: inherit\; font-stretch: inherit\; line-height: inherit\; font-family: inherit\; font-optical-sizing: inherit\; font-size-adjust: inherit\; font-kerning: inherit\; font-feature-settings: inherit\; font-variation-settings: inherit\; font-language-override: inherit\; margin: 0px\; padding: 0px\; vertical-align: baseline\; color: rgb(12\, 100\, 192)\;">&nbsp\; &nbsp\; &nbsp\; &nbsp\; &nbsp\; &nbsp\; &nbsp\; &nbsp\; &nbsp\; Durham\,&nbsp\;NC&nbsp\;27703</span></span></div>\n\n<div style="border: 0px\; font-variant-numeric: inherit\; font-variant-east-asian: inherit\; font-variant-alternates: inherit\; font-variant-position: inherit\; font-variant-emoji: inherit\; font-stretch: inherit\; font-size: 12pt\; line-height: inherit\; font-family: Aptos\, Aptos_EmbeddedFont\, Aptos_MSFontService\, Calibri\, Helvetica\, sans-serif\, serif\, EmojiFont\; font-optical-sizing: inherit\; font-size-adjust: inherit\; font-kerning: inherit\; font-feature-settings: inherit\; font-variation-settings: inherit\; font-language-override: inherit\; margin: 0px 0px 0px 36pt\; padding: 0px\; vertical-align: baseline\; color: rgb(200\, 38\, 19)\; text-align: center\; direction: ltr\;">&nbsp\;</div>\n\n<p style="color: rgb(36\, 36\, 36)\; font-family: &quot\;Segoe UI&quot\;\, &quot\;Segoe UI Web (West European)&quot\;\, -apple-system\, &quot\;system-ui&quot\;\, Roboto\, &quot\;Helvetica Neue&quot\;\, sans-serif\; font-size: 15px\; text-align: center\; direction: ltr\; margin: 0px 0px 0px 36pt\;"><span style="font-size:14px\;">Attendance is free\, but registration is required<b>.</b><br />\nLight snacks and beverages will be served.<br />\nRaffles and door prizes to be given away.</span><br />\n&nbsp\;</p>\n\n<div role="presentation" style="color: black\; font-size: 12pt\; font-family: Aptos\, Aptos_EmbeddedFont\, Aptos_MSFontService\, Calibri\, Helvetica\, sans-serif\; list-style: &quot\;- &quot\;\; margin-right: 0px\; margin-left: 36pt\; align-self: center\;border: 0px\; font: inherit\; margin: 0px\; padding: 0px\; vertical-align: baseline\; color: inherit\; direction: ltr\;"><span style="font-size:14px\;">&nbsp\;&nbsp\;&nbsp\;&nbsp\;&nbsp\;&nbsp\;&nbsp\;&nbsp\;&nbsp\;&nbsp\;&nbsp\;&nbsp\;</span>&nbsp\;&nbsp\;&nbsp\;&nbsp\;&nbsp\;&nbsp\;&nbsp\;&nbsp\;&nbsp\;&nbsp\;&nbsp\;&nbsp\;&nbsp\;&nbsp\;&nbsp\;&nbsp\;&nbsp\;&nbsp\;&nbsp\;&nbsp\;&nbsp\;&nbsp\;&nbsp\;&nbsp\;&nbsp\;&nbsp\;&nbsp\;&nbsp\;&nbsp\;&nbsp\;&nbsp\;&nbsp\;<span style="font-size:14px\;">Closest to the pin contest with a simulator provided by:</span><br />\n&nbsp\;&nbsp\;&nbsp\;&nbsp\;&nbsp\;&nbsp\;&nbsp\;&nbsp\;&nbsp\;&nbsp\;&nbsp\;&nbsp\;&nbsp\;&nbsp\;&nbsp\;&nbsp\;&nbsp\;&nbsp\;&nbsp\;&nbsp\;&nbsp\;&nbsp\;&nbsp\;&nbsp\;&nbsp\;&nbsp\;&nbsp\;&nbsp\;&nbsp\;&nbsp\;&nbsp\;&nbsp\;&nbsp\;&nbsp\;&nbsp\;&nbsp\;&nbsp\;&nbsp\;&nbsp\;&nbsp\;&nbsp\;&nbsp\;&nbsp\;&nbsp\;&nbsp\;&nbsp\;&nbsp\;&nbsp\;&nbsp\;&nbsp\;&nbsp\;&nbsp\;&nbsp\;&nbsp\;&nbsp\;&nbsp\;&nbsp\;&nbsp\;&nbsp\;&nbsp\;<span style="font-size:14px\;">Sam Duehring with&nbsp\;<a data-auth="NotApplicable" data-linkindex="2" href="https://brookfieldsindoorgolf.com/" id="OWA364e376f-de84-f78b-a518-b623deb8ba20" rel="noopener noreferrer" style="border: 0px\; font: inherit\; margin: 0px\; padding: 0px\; vertical-align: baseline\;" target="_blank" title="https://brookfieldsindoorgolf.com/">Brookfields Indoor Golf.</a>&nbsp\;</span></div>\n\n<div role="presentation" style="color: black\; font-size: 12pt\; font-family: Aptos\, Aptos_EmbeddedFont\, Aptos_MSFontService\, Calibri\, Helvetica\, sans-serif\; list-style: &quot\;- &quot\;\; margin-right: 0px\; margin-left: 36pt\; align-self: center\;border: 0px\; font: inherit\; margin: 0px\; padding: 0px\; vertical-align: baseline\; color: inherit\; direction: ltr\;"><span style="font-size:14px\;">&nbsp\;&nbsp\;&nbsp\;&nbsp\;&nbsp\;&nbsp\;&nbsp\;&nbsp\;&nbsp\;&nbsp\;&nbsp\;&nbsp\;&nbsp\;&nbsp\;&nbsp\;&nbsp\;&nbsp\;&nbsp\;&nbsp\;&nbsp\;&nbsp\;&nbsp\;&nbsp\;&nbsp\;&nbsp\;&nbsp\;&nbsp\;&nbsp\;&nbsp\;&nbsp\;&nbsp\;&nbsp\;&nbsp\;&nbsp\;&nbsp\;&nbsp\;&nbsp\;&nbsp\;&nbsp\;&nbsp\;&nbsp\;&nbsp\;&nbsp\;&nbsp\;&nbsp\;&nbsp\;&nbsp\;&nbsp\;&nbsp\;&nbsp\;&nbsp\;&nbsp\;&nbsp\;&nbsp\;&nbsp\;&nbsp\;&nbsp\;&nbsp\;&nbsp\;&nbsp\;</span><br />\n&nbsp\;&nbsp\;&nbsp\;&nbsp\;&nbsp\;&nbsp\;&nbsp\;&nbsp\;&nbsp\;&nbsp\;&nbsp\;&nbsp\;&nbsp\;&nbsp\;&nbsp\;&nbsp\;&nbsp\;&nbsp\;&nbsp\;&nbsp\;&nbsp\;&nbsp\;&nbsp\;&nbsp\;&nbsp\;&nbsp\;&nbsp\;&nbsp\;&nbsp\;&nbsp\;&nbsp\;&nbsp\;&nbsp\;&nbsp\;&nbsp\;&nbsp\;&nbsp\;&nbsp\;&nbsp\;&nbsp\;&nbsp\;&nbsp\;&nbsp\;&nbsp\;&nbsp\;&nbsp\;&nbsp\;&nbsp\;&nbsp\;&nbsp\;&nbsp\;&nbsp\;&nbsp\;&nbsp\;&nbsp\;&nbsp\;&nbsp\;&nbsp\;&nbsp\;<span style="font-size:14px\;"><b>RSVP is requested by Monday\, April 13th.</b></span></div>\n
LOCATION:Pella Windows and Doors of North Carolina 3532 South Miami Boulevard Suite 107 Durham\, NC 27703
UID:e.9250.6527
SEQUENCE:3
DTSTAMP:20260423T030436Z
URL:http://hbadoc.memberzone.com/events/details/league-of-builders-kickoff-event-6527
END:VEVENT

END:VCALENDAR
